BEGIN:VCALENDAR
VERSION:2.0
PRODID:-//Concejalía de Festejos - ECPv6.1.3//NONSGML v1.0//EN
CALSCALE:GREGORIAN
METHOD:PUBLISH
X-WR-CALNAME:Concejalía de Festejos
X-ORIGINAL-URL:https://festejos.guijuelo.es
X-WR-CALDESC:Eventos para Concejalía de Festejos
REFRESH-INTERVAL;VALUE=DURATION:PT1H
X-Robots-Tag:noindex
X-PUBLISHED-TTL:PT1H
BEGIN:VTIMEZONE
TZID:Europe/Madrid
BEGIN:DAYLIGHT
TZOFFSETFROM:+0100
TZOFFSETTO:+0200
TZNAME:CEST
DTSTART:20230326T010000
END:DAYLIGHT
BEGIN:STANDARD
TZOFFSETFROM:+0200
TZOFFSETTO:+0100
TZNAME:CET
DTSTART:20231029T010000
END:STANDARD
END:VTIMEZONE
BEGIN:VEVENT
DTSTART;TZID=Europe/Madrid:20230803T200000
DTEND;TZID=Europe/Madrid:20230803T200000
DTSTAMP:20260419T235859
CREATED:20230727T205958Z
LAST-MODIFIED:20230802T182727Z
UID:9185-1691092800-1691092800@festejos.guijuelo.es
SUMMARY:EXHIBICIÓN DE GIMNASIA RÍTMICA
DESCRIPTION:EXHIBICIÓN DE GIMNASIA RÍTMICA \nCon la participación del Club Kairos. En la plaza Mayor
URL:https://festejos.guijuelo.es/event/exhibicion-de-gimnasia-ritmica/
LOCATION:Plaza Mayor\, Plaza Mayor\, Guijuelo\, Salamanca\, 37770\, Spain
CATEGORIES:Espectáculos Deportivos
END:VEVENT
END:VCALENDAR