BEGIN:VCALENDAR
VERSION:2.0
PRODID:-//Concejalía de Festejos - ECPv6.1.3//NONSGML v1.0//EN
CALSCALE:GREGORIAN
METHOD:PUBLISH
X-ORIGINAL-URL:https://festejos.guijuelo.es
X-WR-CALDESC:Eventos para Concejalía de Festejos
REFRESH-INTERVAL;VALUE=DURATION:PT1H
X-Robots-Tag:noindex
X-PUBLISHED-TTL:PT1H
BEGIN:VTIMEZONE
TZID:Europe/Madrid
BEGIN:DAYLIGHT
TZOFFSETFROM:+0100
TZOFFSETTO:+0200
TZNAME:CEST
DTSTART:20230326T010000
END:DAYLIGHT
BEGIN:STANDARD
TZOFFSETFROM:+0200
TZOFFSETTO:+0100
TZNAME:CET
DTSTART:20231029T010000
END:STANDARD
END:VTIMEZONE
BEGIN:VEVENT
DTSTART;TZID=Europe/Madrid:20230811T200000
DTEND;TZID=Europe/Madrid:20230811T200000
DTSTAMP:20260419T191604
CREATED:20230802T162834Z
LAST-MODIFIED:20230807T185930Z
UID:9249-1691784000-1691784000@festejos.guijuelo.es
SUMMARY:FESTIVAL DE DJ's
DESCRIPTION:Con Juanjo García\, Víctor González\, Miguelón\, Carlos Guez\, Yorchs y los Dj’s locales Alberto Molines y Dj Mon. \nEn la plaza de Julián Coca.
URL:https://festejos.guijuelo.es/event/festival-de-djs/
LOCATION:Plaza Julián Coca\, Plaza Julián Coca\, Guijuelo\, Salamanca\, 37770\, España
CATEGORIES:Espectáculos Musicales
END:VEVENT
END:VCALENDAR