BEGIN:VCALENDAR
VERSION:2.0
PRODID:-//Concejalía de Festejos - ECPv6.1.3//NONSGML v1.0//EN
CALSCALE:GREGORIAN
METHOD:PUBLISH
X-ORIGINAL-URL:https://festejos.guijuelo.es
X-WR-CALDESC:Eventos para Concejalía de Festejos
REFRESH-INTERVAL;VALUE=DURATION:PT1H
X-Robots-Tag:noindex
X-PUBLISHED-TTL:PT1H
BEGIN:VTIMEZONE
TZID:Europe/Madrid
BEGIN:DAYLIGHT
TZOFFSETFROM:+0100
TZOFFSETTO:+0200
TZNAME:CEST
DTSTART:20230326T010000
END:DAYLIGHT
BEGIN:STANDARD
TZOFFSETFROM:+0200
TZOFFSETTO:+0100
TZNAME:CET
DTSTART:20231029T010000
END:STANDARD
END:VTIMEZONE
BEGIN:VEVENT
DTSTART;TZID=Europe/Madrid:20230811T230000
DTEND;TZID=Europe/Madrid:20230812T010000
DTSTAMP:20260420T031343
CREATED:20230802T163622Z
LAST-MODIFIED:20230802T163622Z
UID:9256-1691794800-1691802000@festejos.guijuelo.es
SUMMARY:PROGRAMA PUNTO CLAVE
DESCRIPTION:de Diputación de Salamanca: \nReducción de riesgos en fiestas y de accidentes de tráfico. \nEn la plaza de Julián Coca.
URL:https://festejos.guijuelo.es/event/programa-punto-clave/
LOCATION:Plaza Julián Coca\, Plaza Julián Coca\, Guijuelo\, Salamanca\, 37770\, España
END:VEVENT
END:VCALENDAR